BEGIN:VCALENDAR
VERSION:2.0
PRODID:-//Squarespace Inc/Squarespace 6//v6//EN
BEGIN:VEVENT
UID:5b8cae0f88251b17eb356465@squarespace.com
DTSTAMP:20180903T072520Z
DTSTART:20181006T021500Z
DTEND:20181006T061500Z
SUMMARY:SATURDAY - MEMORIAL PARK - PALMY
END:VEVENT
END:VCALENDAR
