BEGIN:VCALENDAR
VERSION:2.0
PRODID:-//Squarespace Inc/Squarespace 6//v6//EN
BEGIN:VEVENT
UID:5bbaae4e71c10b92927b1069@squarespace.com
DTSTAMP:20181008T010954Z
DTSTART:20181124T021500Z
DTEND:20181124T061500Z
SUMMARY:SATURDAY - MEMORIAL PARK - PALMY
END:VEVENT
END:VCALENDAR
