BEGIN:VCALENDAR
VERSION:2.0
PRODID:-//Squarespace Inc/Squarespace 6//v6//EN
BEGIN:VEVENT
UID:5c9ab007104c7b8d4e7eda07@squarespace.com
DTSTAMP:20190326T230448Z
DTSTART:20190511T021500Z
DTEND:20190511T061500Z
SUMMARY:SATURDAY - MEMORIAL PARK - PALMY
END:VEVENT
END:VCALENDAR
