BEGIN:VCALENDAR
VERSION:2.0
PRODID:-//Squarespace Inc/Squarespace 6//v6//EN
BEGIN:VEVENT
UID:5c9aafef41920275425aa51e@squarespace.com
DTSTAMP:20190326T230428Z
DTSTART:20190504T021500Z
DTEND:20190504T061500Z
SUMMARY:SATURDAY - MEMORIAL PARK - PALMY
END:VEVENT
END:VCALENDAR
