BEGIN:VCALENDAR
VERSION:2.0
PRODID:-//Squarespace Inc/Squarespace 6//v6//EN
BEGIN:VEVENT
UID:5c9ab02fc830252c731cfba7@squarespace.com
DTSTAMP:20190326T230530Z
DTSTART:20190525T021500Z
DTEND:20190525T061500Z
SUMMARY:SATURDAY - MEMORIAL PARK - PALMY
END:VEVENT
END:VCALENDAR
