BEGIN:VCALENDAR
VERSION:2.0
PRODID:-//Squarespace Inc/Squarespace 6//v6//EN
BEGIN:VEVENT
UID:5c6cab086e9a7f59e46fac26@squarespace.com
DTSTAMP:20190220T011918Z
DTSTART:20190330T021500Z
DTEND:20190330T061500Z
SUMMARY:SATURDAY - MEMORIAL PARK - PALMY
END:VEVENT
END:VCALENDAR
