BEGIN:VCALENDAR
VERSION:2.0
PRODID:-//Squarespace Inc/Squarespace 6//v6//EN
BEGIN:VEVENT
UID:5c6ca920971a182da524fd6c@squarespace.com
DTSTAMP:20190220T011158Z
DTSTART:20190323T021500Z
DTEND:20190323T061500Z
SUMMARY:SATURDAY - MEMORIAL PARK - PALMY
END:VEVENT
END:VCALENDAR
