BEGIN:VCALENDAR
VERSION:2.0
PRODID:-//Squarespace Inc/Squarespace 6//v6//EN
BEGIN:VEVENT
UID:5bbaae6ca4222f8e88173e0c@squarespace.com
DTSTAMP:20181008T011018Z
DTSTART:20181201T021500Z
DTEND:20181201T061500Z
SUMMARY:SATURDAY - MEMORIAL PARK - PALMY
END:VEVENT
END:VCALENDAR
