BEGIN:VCALENDAR
VERSION:2.0
PRODID:-//Squarespace Inc/Squarespace 6//v6//EN
BEGIN:VEVENT
UID:5b8cb2bbaa4a99a498327272@squarespace.com
DTSTAMP:20180903T040423Z
DTSTART:20181027T021500Z
DTEND:20181027T061500Z
SUMMARY:SATURDAY - MEMORIAL PARK - PALMY
END:VEVENT
END:VCALENDAR
