BEGIN:VCALENDAR
VERSION:2.0
PRODID:-//Squarespace Inc/Squarespace 6//v6//EN
BEGIN:VEVENT
UID:5b2afa66f950b7ec244080e5@squarespace.com
DTSTAMP:20180621T010807Z
DTSTART:20180630T021500Z
DTEND:20180630T071500Z
SUMMARY:SATURDAY - MEMORIAL PARK - PALMY
END:VEVENT
END:VCALENDAR
