BEGIN:VCALENDAR
VERSION:2.0
PRODID:-//Squarespace Inc/Squarespace 6//v6//EN
BEGIN:VEVENT
UID:5b276bf52b6a28864452574e@squarespace.com
DTSTAMP:20180621T010750Z
DTSTART:20180623T021500Z
DTEND:20180623T071500Z
SUMMARY:SATURDAY - MEMORIAL PARK - PALMY
END:VEVENT
END:VCALENDAR
