BEGIN:VCALENDAR
VERSION:2.0
PRODID:-//Squarespace Inc/Squarespace 6//v6//EN
BEGIN:VEVENT
UID:5b276c2a758d468433056319@squarespace.com
DTSTAMP:20180618T084538Z
DTSTART:20180623T211500Z
DTEND:20180624T031500Z
SUMMARY:MANAWATU WEDDING EXPO - AWAPUNI RACECOURSE
END:VEVENT
END:VCALENDAR
