BEGIN:VCALENDAR
VERSION:2.0
PRODID:-//Squarespace Inc/Squarespace 6//v6//EN
BEGIN:VEVENT
UID:5b988f2f88251bd9ec45a256@squarespace.com
DTSTAMP:20180912T040004Z
DTSTART:20181008T231500Z
DTEND:20181010T024500Z
SUMMARY:KIDS SCHOOL HOLIDAY CAKE CLASSES
GEO:-40.356656;175.604375
LOCATION:THE CRAFTED AND CO.\, 123 Cuba Street\, Palmerston North\, Manawat
 u-Wanganui\, 4410\, New Zealand
END:VEVENT
END:VCALENDAR
