BEGIN:VCALENDAR
VERSION:2.0
PRODID:-//Squarespace Inc/Squarespace 6//v6//EN
BEGIN:VEVENT
UID:5b2afb09758d46759e97b94e@squarespace.com
DTSTAMP:20180621T013241Z
DTSTART:20180711T021500Z
DTEND:20180711T041500Z
SUMMARY:KIDS SCHOOL HOLIDAY CAKE CLASS
GEO:-40.356656;175.604375
LOCATION:THE CRAFTED AND CO.\, 123 Cuba Street\, Palmerston North\, Manawat
 u-Wanganui\, 4410\, New Zealand
END:VEVENT
END:VCALENDAR
