BEGIN:VCALENDAR
VERSION:2.0
PRODID:-//Squarespace Inc/Squarespace 6//v6//EN
BEGIN:VEVENT
UID:5b8c9561898583fbc6bdc3be@squarespace.com
DTSTAMP:20180903T024319Z
DTSTART:20180913T211500Z
DTEND:20180916T031500Z
SUMMARY:HAWKE'S BAY HOME & GARDEN SHOW
GEO:-39.502214;176.912753
LOCATION:MacLean Park\, Napier\, New Zealand
END:VEVENT
END:VCALENDAR
