BEGIN:VCALENDAR
VERSION:2.0
PRODID:-//Squarespace Inc/Squarespace 6//v6//EN
BEGIN:VEVENT
UID:5b8cb15521c67c87037de1f4@squarespace.com
DTSTAMP:20180903T072955Z
DTSTART:20181023T214500Z
DTEND:20181023T234500Z
SUMMARY:WEDNESDAY - ALL SAINTS LUNCH POP-UP
GEO:-40.352306;175.608215
LOCATION:All saints church\, Palmerston North\, New Zealand
END:VEVENT
END:VCALENDAR
