BEGIN:VCALENDAR
VERSION:2.0
PRODID:-//Squarespace Inc/Squarespace 6//v6//EN
BEGIN:VEVENT
UID:5bba96d5a4222f8e881647f5@squarespace.com
DTSTAMP:20181007T232939Z
DTSTART:20181113T214500Z
DTEND:20181113T234500Z
SUMMARY:WEDNESDAY - ALL SAINTS LUNCH POP-UP
GEO:-40.352306;175.608215
LOCATION:All saints church\, Palmerston North\, New Zealand
END:VEVENT
END:VCALENDAR
