BEGIN:VCALENDAR
VERSION:2.0
PRODID:-//Squarespace Inc/Squarespace 6//v6//EN
BEGIN:VEVENT
UID:5bba9805c83025c9ab78070e@squarespace.com
DTSTAMP:20181007T233444Z
DTSTART:20190129T214500Z
DTEND:20190129T234500Z
SUMMARY:WEDNESDAY - ALL SAINTS LUNCH POP-UP
GEO:-40.352306;175.608215
LOCATION:All saints church\, Palmerston North\, New Zealand
END:VEVENT
END:VCALENDAR
