BEGIN:VCALENDAR
VERSION:2.0
PRODID:-//Squarespace Inc/Squarespace 6//v6//EN
BEGIN:VEVENT
UID:5c9aaaa54785d3df8fb43c6e@squarespace.com
DTSTAMP:20190326T224202Z
DTSTART:20190521T221500Z
DTEND:20190522T011500Z
SUMMARY:WEDNESDAY - ALL SAINTS LUNCH POP-UP
GEO:-40.352306;175.608215
LOCATION:All saints church\, Palmerston North\, New Zealand
END:VEVENT
END:VCALENDAR
