BEGIN:VCALENDAR
VERSION:2.0
PRODID:-//Squarespace Inc/Squarespace 6//v6//EN
BEGIN:VEVENT
UID:5c9aa72d6e9a7f0a4b061c2e@squarespace.com
DTSTAMP:20190326T222705Z
DTSTART:20190430T221500Z
DTEND:20190501T011500Z
SUMMARY:WEDNESDAY - ALL SAINTS LUNCH POP-UP
GEO:-40.352306;175.608215
LOCATION:All saints church\, Palmerston North\, New Zealand
END:VEVENT
END:VCALENDAR
