BEGIN:VCALENDAR
VERSION:2.0
PRODID:-//Squarespace Inc/Squarespace 6//v6//EN
BEGIN:VEVENT
UID:5c524f2b0e2e72d7530d2b14@squarespace.com
DTSTAMP:20190131T013157Z
DTSTART:20190210T011500Z
DTEND:20190210T051500Z
SUMMARY:SUMMER SOCIAL - MEMORIAL
END:VEVENT
END:VCALENDAR
