BEGIN:VCALENDAR
VERSION:2.0
PRODID:-//Squarespace Inc/Squarespace 6//v6//EN
BEGIN:VEVENT
UID:5b959f374d7a9cece57a3cc2@squarespace.com
DTSTAMP:20180909T223138Z
DTSTART:20190301T181500Z
DTEND:20190302T041500Z
SUMMARY:MARTINBOROUGH FAIR
END:VEVENT
END:VCALENDAR
