BEGIN:VCALENDAR
VERSION:2.0
PRODID:-//Squarespace Inc/Squarespace 6//v6//EN
BEGIN:VEVENT
UID:5b959eac4d7a9cece57a37c3@squarespace.com
DTSTAMP:20180909T223119Z
DTSTART:20190201T181500Z
DTEND:20190202T041500Z
SUMMARY:MARTINBOROUGH FAIR
END:VEVENT
END:VCALENDAR
