BEGIN:VCALENDAR
VERSION:2.0
PRODID:-//Squarespace Inc/Squarespace 6//v6//EN
BEGIN:VEVENT
UID:5c524f9270a6ada6614457b2@squarespace.com
DTSTAMP:20190131T013311Z
DTSTART:20190223T013000Z
DTEND:20190223T081500Z
SUMMARY:LANTERN FEST - WELLINGTON
GEO:-41.28646;174.776236
LOCATION:wellington\, New zealand
END:VEVENT
END:VCALENDAR
