BEGIN:VCALENDAR
VERSION:2.0
PRODID:-//Squarespace Inc/Squarespace 6//v6//EN
BEGIN:VEVENT
UID:5b959ff5032be4f0cd399a80@squarespace.com
DTSTAMP:20180909T223547Z
DTSTART:20190313T181500Z
DTEND:20190316T071500Z
SUMMARY:CENTRAL DISTRICT FIELD DAYS
END:VEVENT
END:VCALENDAR
