BEGIN:VCALENDAR
VERSION:2.0
PRODID:-//Squarespace Inc/Squarespace 6//v6//EN
BEGIN:VEVENT
UID:5c94056deef1a17e0bde3c1d@squarespace.com
DTSTAMP:20190321T214605Z
DTSTART:20190328T024500Z
DTEND:20190328T044500Z
SUMMARY:FESTIVAL OF RACING- EASTR EGG HUNT THE SQUARE
END:VEVENT
END:VCALENDAR
