BEGIN:VCALENDAR
VERSION:2.0
PRODID:-//Squarespace Inc/Squarespace 6//v6//EN
BEGIN:VEVENT
UID:5b959f771ae6cf56fbfdb002@squarespace.com
DTSTAMP:20180909T223410Z
DTSTART:20190302T181500Z
DTEND:20190303T071500Z
SUMMARY:NEWTOWN FESTIVAL
GEO:-41.310931;174.779012
LOCATION:Newtown\, Wellington
END:VEVENT
END:VCALENDAR
