BEGIN:VCALENDAR
VERSION:2.0
PRODID:-//Squarespace Inc/Squarespace 6//v6//EN
BEGIN:VEVENT
UID:5c6ca35224a694b3d6137fa8@squarespace.com
DTSTAMP:20190220T004920Z
DTSTART:20190308T201500Z
DTEND:20190309T221500Z
SUMMARY:RELAY FOR LIFE PALMY
END:VEVENT
END:VCALENDAR
