BEGIN:VCALENDAR
VERSION:2.0
PRODID:-//Squarespace Inc/Squarespace 6//v6//EN
BEGIN:VEVENT
UID:5c9aae93652deafccaaedd82@squarespace.com
DTSTAMP:20190326T225840Z
DTSTART:20190419T000000Z
DTEND:20190419T010000Z
SUMMARY:GOOD FRIDAY
END:VEVENT
END:VCALENDAR
