BEGIN:VCALENDAR
VERSION:2.0
PRODID:-//Squarespace Inc/Squarespace 6//v6//EN
BEGIN:VEVENT
UID:5c942a6a15fcc04451c847bb@squarespace.com
DTSTAMP:20190322T002357Z
DTSTART:20190419T191500Z
DTEND:20190420T081500Z
SUMMARY:WAIRARAPA BALLOON FESTIVAL
GEO:-40.950146;175.662255
LOCATION:wairarapa
END:VEVENT
END:VCALENDAR
