BEGIN:VCALENDAR
VERSION:2.0
PRODID:-//Squarespace Inc/Squarespace 6//v6//EN
BEGIN:VEVENT
UID:5c9aaeb541920275425a90b1@squarespace.com
DTSTAMP:20190326T225912Z
DTSTART:20190425T000000Z
DTEND:20190425T010000Z
SUMMARY:ANZAC DAY
END:VEVENT
END:VCALENDAR
