BEGIN:VCALENDAR
VERSION:2.0
PRODID:-//Squarespace Inc/Squarespace 6//v6//EN
BEGIN:VEVENT
UID:5c94276e9b747a740b35fd62@squarespace.com
DTSTAMP:20190322T001215Z
DTSTART:20190405T181500Z
DTEND:20190406T021500Z
SUMMARY:FRENCH COUNTRY FAIR - TAUHERENIKAU RACECOURSE
GEO:-41.124297;175.376916
LOCATION:taurehenikau racecourse
END:VEVENT
END:VCALENDAR
