BEGIN:VCALENDAR
VERSION:2.0
PRODID:-//Squarespace Inc/Squarespace 6//v6//EN
BEGIN:VEVENT
UID:5c9ab1a2e2c48342381a25ca@squarespace.com
DTSTAMP:20190326T231729Z
DTSTART:20190509T211500Z
DTEND:20190512T031500Z
SUMMARY:WELLINGTON BETTER HOME &amp\; LIVING SHOW
GEO:-41.272922;174.785915
LOCATION:WESPAC STADIUM\, WELLINGTON
END:VEVENT
END:VCALENDAR
