BEGIN:VCALENDAR
VERSION:2.0
PRODID:-//Squarespace Inc/Squarespace 6//v6//EN
BEGIN:VEVENT
UID:5c9ab248eb39316e70fb14b9@squarespace.com
DTSTAMP:20190326T231550Z
DTSTART:20190523T211500Z
DTEND:20190526T041500Z
SUMMARY:WELLINGTON FOOD SHOW
GEO:-40.352306;175.608215
LOCATION:WESPAC STADIUM\, WELLINGTON
END:VEVENT
END:VCALENDAR
