BEGIN:VCALENDAR
VERSION:2.0
PRODID:-//Squarespace Inc/Squarespace 6//v6//EN
BEGIN:VEVENT
UID:5c9ab15024a694cdec99f640@squarespace.com
DTSTAMP:20190326T231655Z
DTSTART:20190503T211500Z
DTEND:20190504T181500Z
SUMMARY:WOMEN'S LIFESTYLE EXPO PALMY
GEO:-40.354089;175.597265
LOCATION:central energy trust arena\, 6 1 pascal street\, Palmerston north
END:VEVENT
END:VCALENDAR
