BEGIN:VCALENDAR
VERSION:2.0
PRODID:-//Squarespace Inc/Squarespace 6//v6//EN
BEGIN:VEVENT
UID:5b959b811ae6cf56fbfd851a@squarespace.com
DTSTAMP:20180909T222038Z
DTSTART:20181109T191500Z
DTEND:20181111T061500Z
SUMMARY:FOOD & WINE SHOW -ARENA
GEO:-40.352306;175.608215
LOCATION:Arena Manawatu\, Palmerston North\, New Zealand
END:VEVENT
END:VCALENDAR
